BEGIN:VCALENDAR
VERSION:2.0
PRODID:gruene-flensburg.de
METHOD:PUBLISH
BEGIN:VTIMEZONE
TZID:Europe/Berlin
X-LIC-LOCATION:Europe/Berlin
BEGIN:DAYLIGHT
TZOFFSETFROM:+0100
TZOFFSETTO:+0200
TZNAME:CEST
DTSTART:19700329T020000
RRULE:FREQ=YEARLY;INTERVAL=1;BYDAY=-1SU;BYMONTH=3
END:DAYLIGHT
BEGIN:STANDARD
TZOFFSETFROM:+0200
TZOFFSETTO:+0100
TZNAME:CET
DTSTART:19701025T030000
RRULE:FREQ=YEARLY;INTERVAL=1;BYDAY=-1SU;BYMONTH=10
END:STANDARD
END:VTIMEZONE
BEGIN:VEVENT
UID:5c781918051cbe3433565c2f5fbf9fca@gruene-flensburg.de
URL;VALUE=URI:https://gruene-flensburg.de/termine/gruener-feierabend-12/
LOCATION:Kreisgeschäftsstelle, Heinrichstraße 16b, Flensburg
SUMMARY:Grüner Feierabend
DESCRIPTION;ALTREP="data:text/html,%0A%3Cp%3EWir%20laden%20euch%20herzlic
 h%20zu%20unserem%20Gr%C3%BCnen%20Feierabend%20ein%3A%20%20ein%20entspannt
 er%20Abend%20voller%20Gespr%C3%A4che%2C%20Austausch%20und%20netter%20Mens
 chen.%20Ob%20ihr%20schon%20lange%20Mitglied%20seid%20oder%20einfach%20mal
 %20vorbeischauen%20m%C3%B6chtet%2C%20bei%20uns%20ist%20jede%2Ar%20willkom
 men.%3C%2Fp%3E%0A%0A%0A%0A%3Cp%3E%3C%2Fp%3E%0A%0A%0A%0A%3Cp%3EKommt%20vor
 bei%20und%20bringt%20gute%20Laune%20mit.%20Wir%20freuen%20uns%20auf%20euc
 h%21%20%3C%2Fp%3E%0A%0A%0A%0A%3Cp%3E%3C%2Fp%3E%0A":Wir laden euch herzlic
 h zu unserem Grünen Feierabend ein:  ein entspannter Abend voller Gespr
 äche\, Austausch und netter Menschen. Ob ihr schon lange Mitglied seid o
 der einfach mal vorbeischauen möchtet\, bei uns ist jede*r willkommen.\n
 \nKommt vorbei und bringt gute Laune mit. Wir freuen uns auf euch!
CLASS:PUBLIC
DTSTART;TZID=Europe/Berlin:20260424T173000
DTEND;TZID=Europe/Berlin:20260424T183000
DTSTAMP:20260421T140026
END:VEVENT
END:VCALENDAR